Workbook

Sheet 2026 value tracker
B6: Title | C6: Description | D6: Procurement category | E6: Procurement subcategory | F6: Business lead(s) | G6: Procurement lead | H6: Status | I6: L-stage | J6: Baseline spend | K6: 2026 in-year cash savings | L6: 2026 in-year cost avoidance | M6: 2027 wrap-around cash savings | N6: 2027 wrap-around cost avoidance | O6: 2028 wrap-around cash savings | P6: 2028 wrap-around cost avoidance | Q6: Total
B7: Project management tool renewal | C7: 2026 renewal for PM tool | D7: Internet & comm technology | E7: Software & applications | F7: Dave | G7: Robin | H7: Completed | I7: L4 - Handshake meeting | J7: 388170 | K7: 194107 | M7: 64703 | Q7: =SUM(K7:P7) -> 258810
B8: Third party hardware support RFQ | C8: Look for alternatives for third party hardware support | D8: Internet & comm technology | E8: Software & applications | F8: Karl | G8: Robin | H8: Completed | I8: L4 - Handshake meeting | J8: 423842 | K8: 201606 | Q8: =SUM(K8:P8) -> 201606
B9: Time & attendance RFI | C9: Explore options for time and attendance software | D9: Corporate services | E9: HR Services | F9: Maria | G9: Steve | H9: Completed | I9: L4 - Handshake meeting | J9: 788010 | M9: 77127 | O9: 38563 | Q9: =SUM(K9:P9) -> 115690
B10: Security software renewal | C10: Security software renewal | D10: Internet & comm technology | E10: Software & applications | F10: Justin | G10: Robin | H10: Completed | I10: L4 - Handshake meeting | J10: 393340 | K10: 69636 | M10: 23212 | Q10: =SUM(K10:P10) -> 92848
B11: Database software negotiation | C11: Migrate to open source DB software | D11: Internet & comm technology | E11: Software & applications | F11: Jonathan | G11: Robin | H11: Completed | I11: L4 - Handshake meeting | J11: 764485 | L11: 91728 | Q11: =SUM(K11:P11) -> 91728
B12: Firewall software renewal | C12: Renewal | D12: Internet & comm technology | E12: Software & applications | F12: Justin | G12: Robin | H12: Completed | I12: L4 - Handshake meeting | J12: 144457 | K12: 72228 | Q12: =SUM(K12:P12) -> 72228
B13: Finance analysis software renewal | C13: Accounts reconciliation and payments matching software | D13: Corporate services | E13: Software & applications | F13: Carol | G13: Steve | H13: Completed | I13: L4 - Handshake meeting | J13: 309722 | K13: 39672 | L13: 18583 | Q13: =SUM(K13:P13) -> 58255
B14: Public relations firm RFP | C14: RFP to explore awarding new PR firm | D14: Corporate services | E14: Marketing & communication | F14: Allie | G14: Steve | H14: Completed | I14: L4 - Handshake meeting | J14: 195900 | K14: 30876 | Q14: =SUM(K14:P14) -> 30876
B15: Financial risk software RFP | C15: Explore options for financial risk software | D15: Corporate services | E15: Software & applications | F15: Lisa | G15: Steve | H15: Completed | I15: L4 - Handshake meeting | J15: 23979 | K15: 11179 | Q15: =SUM(K15:P15) -> 11179
B16: Savings achieved | K16: 865119 | L16: 687131 | M16: 176003 | N16: 0 | O16: 38563 | P16: 0 | Q16: =SUM(Q7:Q15) -> 933220
B19: Contingent labor RFP | C19: RFQ/RFP to drive further savings and consolidation in hourly temp labor | D19: Corporate services | E19: Temporary Labor | F19: Genna | G19: Steve | H19: In progress | I19: L1 - Ideation | J19: 67840782 | K19: 1000000 | M19: 1000000 | Q19: =SUM(K19:P19) -> 2000000
B20: Datacenter server refresh | C20: Hardware for non prod UAT environment in west data center | D20: Internet & comm technology | E20: Software & applications | F20: Parastoo | G20: Robin | H20: In progress | I20: L2 - BU validation | J20: 650000 | L20: 650000 | Q20: =SUM(K20:P20) -> 650000
B21: Payroll software RFP | C21: RFP for payroll services | D21: Corporate services | E21: HR Services | F21: Maria | G21: Steve | H21: In progress | I21: L1 - Ideation | J21: 452237 | K21: 112353 | M21: 80850 | Q21: =SUM(K21:P21) -> 193203
B22: Product management software renewal | C22: 2026 renewal for PM tool | D22: Internet & comm technology | E22: Software & applications | F22: Dave | G22: Robin | H22: In progress | I22: L2 - BU validation | J22: 192725 | K22: 38447 | Q22: =SUM(K22:P22) -> 38447
B23: Business intelligence tool RFP | C23: RFP for business intelligence tool to implement in 2027 | D23: Internet & comm technology | E23: Software & applications | F23: Paul | G23: Robin | H23: In progress | I23: L1 - Ideation | J23: 298676 | K23: 7466.9 | M23: 7466.9 | Q23: =SUM(K23:P23) -> 14933.8
B24: Cybersecurity software negotiation | C24: New SaaS license purchase to expand the products options | D24: Internet & comm technology | E24: Software & applications | F24: Justin | G24: Robin | H24: In progress | I24: L2 - BU validation | J24: 106118 | K24: 2652.95 | M24: 2652.95 | N24: 9512 | Q24: =SUM(K24:P24) -> 14817.9
B25: Packaging optimization project | C25: Packaging optimization with existing vendors | D25: Technical goods & services | E25: Packaging & paper products | F25: Brandon | G25: Steve | H25: In progress | I25: L1 - Ideation | J25: 8274505 | Q25: =SUM(K25:P25) -> 0
B26: Labor management software RFI | C26: VMS/LMS functionality | D26: Internet & comm technology | E26: Software & applications | F26: Frederic | G26: Steve | H26: In progress | I26: L1 - Ideation | Q26: =SUM(K26:P26) -> 0
B27: Warehouse management renewal | C27: WMS true up and cancel on-prem support | D27: Internet & comm technology | E27: Software & applications | F27: Ashish / Amanda | G27: Steve | H27: In progress | I27: L1 - Ideation | J27: 2851582 | Q27: =SUM(K27:P27) -> 0
B28: Savings in the pipeline | K28: 369994.4 | L28: 650000 | M28: 106034.4 | N28: 9512 | O28: 0 | P28: 0 | Q28: =SUM(Q19:Q27) -> 2911401.7
B31: BlackLine Systems renewal | C31: Annual renewal | D31: Corporate services | E31: Software & applications | F31: Carol | G31: Steve | H31: Planned | I31: L1 - Ideation | J31: 351924 | K31: 8798.1 | M31: 8798.1 | Q31: =SUM(K31:P31) -> 17596.2
B32: Salesforce.com renewal | C32: Annual renewal | D32: Corporate services | E32: Software & applications | F32: Michael | G32: Steve | H32: Planned | I32: L1 - Ideation | J32: 160980 | K32: 4024.5 | M32: 4024.5 | Q32: =SUM(K32:P32) -> 8049
B33: Longview renewal | C33: Annual renewal | D33: Corporate services | E33: Software & applications | F33: Carol | G33: Steve | H33: Planned | I33: L1 - Ideation | J33: 115488 | K33: 2887.2 | M33: 2887.2 | Q33: =SUM(K33:P33) -> 5774.4
B34: Security Service RFP | D34: Facilities | E34: Security & guarding | F34: Will | G34: Cathy | H34: Planned | I34: L1 - Ideation | J34: 6200000 | M34: =J34*10% -> 620000 | Q34: =SUM(K34:P34) -> 620000
B35: Cleaning insourcing | D35: Facilities | E35: Other facilities services | F35: JP | G35: Cathy | H35: Planned | I35: L1 - Ideation | J35: 3000000 | M35: 150000 | Q35: =SUM(K35:P35) -> 150000
B36: Storage Solutions RFP | D36: Facilities | E36: Rental building & warehouse | F36: JP | G36: Cathy | H36: Planned | I36: L1 - Ideation | J36: 1900000 | M36: 95000 | Q36: =SUM(K36:P36) -> 95000
B37: Janitorial Supplies RFP | C37: Consolidate janitorial supplies vendors to support all sites | D37: Facilities | E37: Other facilities services | F37: JP | G37: Cathy | H37: On hold | I37: L1 - Ideation | J37: 798089 | K37: 39804 | Q37: =SUM(K37:P37) -> 39804
B38: Waste Management RFP | C38: Consolidate vendors | D38: Facilities | E38: Utilities | F38: JP | G38: Cathy | H38: On hold | I38: L1 - Ideation | J38: 1338658 | K38: 15000 | Q38: =SUM(K38:P38) -> 15000
B39: Pallets RFP | C39: Consolidate pallet vendors to support all sites | D39: Facilities | E39: Other facilities services | F39: JP | G39: Cathy | H39: On hold | I39: L1 - Ideation | Q39: =SUM(K39:P39) -> 0
B40: MongoDB Inc renewal | C40: Annual renewal | D40: Internet & comm technology | E40: Software & applications | F40: Jonathan | G40: Robin | H40: Planned | I40: L1 - Ideation | J40: 636337 | K40: 15908.425 | M40: 15908.425 | Q40: =SUM(K40:P40) -> 31816.85
B41: Server software renewal | C41: Annual renewal | D41: Internet & comm technology | E41: Software & applications | F41: Jonathan | G41: Robin | H41: Planned | I41: L1 - Ideation | J41: 587639.48 | K41: 14690.987 | M41: 14690.987 | Q41: =SUM(K41:P41) -> 29381.974
B42: Data lake contract renewal | C42: Annual renewal | D42: Internet & comm technology | E42: Software & applications | F42: Matt | G42: Robin | H42: Planned | I42: L1 - Ideation | J42: 471250 | K42: 11781.25 | M42: 11781.25 | Q42: =SUM(K42:P42) -> 23562.5
B43: Cloud services renewal | C43: Annual renewal | D43: Internet & comm technology | E43: Software & applications | F43: Jonathan | G43: Robin | H43: Planned | I43: L1 - Ideation | J43: 308567.36 | K43: 7714.184 | M43: 7714.184 | Q43: =SUM(K43:P43) -> 15428.368
B44: Laptops price negotiation | C44: Annual renewal | D44: Internet & comm technology | E44: Software & applications | F44: Jonathan | G44: Robin | H44: Planned | I44: L1 - Ideation | J44: 259219.8 | K44: 6480.495 | M44: 6480.495 | Q44: =SUM(K44:P44) -> 12960.99
B45: Server security software renewal | C45: Annual renewal | D45: Internet & comm technology | E45: Software & applications | F45: Jonathan | G45: Robin | H45: Planned | I45: L1 - Ideation | J45: 207690 | K45: 5192.25 | M45: 5192.25 | Q45: =SUM(K45:P45) -> 10384.5
B46: Site network refresh | C46: Network refresh | D46: Internet & comm technology | E46: Software & applications | F46: Parastoo | G46: Robin | H46: Planned | I46: L1 - Ideation | K46: 0 | M46: 0 | Q46: =SUM(K46:P46) -> 0
B47: Site cable refresh | C47: Cable refresh wiring | D47: Internet & comm technology | E47: Software & applications | F47: Scott | G47: Robin | H47: Planned | I47: L1 - Ideation | K47: 0 | M47: 0 | Q47: =SUM(K47:P47) -> 0
B48: General contractor RFP(s) | D48: Technical goods & services | E48: Construction works and services | F48: Amanda | G48: Cathy | H48: Planned | I48: L1 - Ideation | J48: 2900000 | M48: 145000 | Q48: =SUM(K48:P48) -> 145000
B49: Setup e-catalogs for maintenance parts | D49: Technical goods & services | E49: Machinery, maintenance & technical supplies | F49: JP | G49: Cathy | H49: Planned | I49: L1 - Ideation | J49: 2700000 | M49: 135000 | Q49: =SUM(K49:P49) -> 135000
...

Sheet Dashboard
A1: Type of Savings | B1: Savings | I1: Type of Savings | J1: Savings | Q1: Category | R1: Cash Savings | S1: Cost Avoidance | Z1: Status | AA1: Cash Savings | AB1: Cost Avoidance | AG1: Category | AH1: Cash Savings | AI1: Cost Avoidance | AP1: Category | AQ1: Total Savings
A2: 2026 Cash Savings | B2: =SUMIF('2026 value tracker'!K:K, "<>",'2026 value tracker'!K:K)/2 -> 1639950 | I2: 2026 Cash Savings | J2: =SUMIFS('2026 value tracker'!K:K,'2026 value tracker'!H:H,"Completed") -> 619304 | Q2: Corporate Services | R2: =SUMIFS('2026 value tracker'!K:K,'2026 value tracker'!D:D,"Corporate services",'2026 value tracker'!H:H,"Completed")+SUMIFS('2026 value tracker'!M:M,'2026 value tracker'!D:D,"Corporate services",'2026 value tracker'!H:H,"Completed")+SUMIFS('2026 value tracker'!O:O,'2026 value tracker'!D:D,"Corporate services",'2026 value tracker'!H:H,"Completed") -> 197417 | S2: =SUMIFS('2026 value tracker'!L:L,'2026 value tracker'!D:D,"Corporate services",'2026 value tracker'!H:H,"Completed")+SUMIFS('2026 value tracker'!N:N,'2026 value tracker'!D:D,"Corporate services",'2026 value tracker'!H:H,"Completed")+SUMIFS('2026 value tracker'!P:P,'2026 value tracker'!D:D,"Corporate services",'2026 value tracker'!H:H,"Completed") -> 18583 | Z2: Planned | AA2: =SUMIFS('2026 value tracker'!K:K,'2026 value tracker'!H:H,"Planned")+SUMIFS('2026 value tracker'!M:M,'2026 value tracker'!H:H,"Planned")+SUMIFS('2026 value tracker'!O:O,'2026 value tracker'!H:H,"Planned") -> 1299954.8 | AB2: =SUMIFS('2026 value tracker'!L:L,'2026 value tracker'!H:H,"Planned")+SUMIFS('2026 value tracker'!N:N,'2026 value tracker'!H:H,"Planned")+SUMIFS('2026 value tracker'!P:P,'2026 value tracker'!H:H,"Planned") -> 0 | AG2: Corporate Services | AH2: =SUMIFS('2026 value tracker'!K:K,'2026 value tracker'!D:D,"Corporate services")+SUMIFS('2026 value tracker'!M:M,'2026 value tracker'!D:D,"Corporate services")+SUMIFS('2026 value tracker'!O:O,'2026 value tracker'!D:D,"Corporate services") -> 2422039.6 | AI2: =SUMIFS('2026 value tracker'!L:L,'2026 value tracker'!D:D,"Corporate services")+SUMIFS('2026 value tracker'!N:N,'2026 value tracker'!D:D,"Corporate services")+SUMIFS('2026 value tracker'!P:P,'2026 value tracker'!D:D,"Corporate services") -> 18583 | AP2: Corporate Services | AQ2: =AH2+AI2 -> 2440622.6
A3: 2026 Cost Avoidance | B3: =SUMIF('2026 value tracker'!L:L, "<>",'2026 value tracker'!L:L)/2 -> 1048721 | I3: 2026 Cost Avoidance | J3: =SUMIFS('2026 value tracker'!L:L,'2026 value tracker'!H:H,"Completed") -> 110311 | Q3: Facilities | R3: =SUMIFS('2026 value tracker'!K:K,'2026 value tracker'!D:D,"Facilities",'2026 value tracker'!H:H,"Completed")+SUMIFS('2026 value tracker'!M:M,'2026 value tracker'!D:D,"Facilities",'2026 value tracker'!H:H,"Completed")+SUMIFS('2026 value tracker'!O:O,'2026 value tracker'!D:D,"Facilities",'2026 value tracker'!H:H,"Completed") -> 0 | S3: =SUMIFS('2026 value tracker'!L:L,'2026 value tracker'!E:E,"Facilities",'2026 value tracker'!I:I,"Completed")+SUMIFS('2026 value tracker'!N:N,'2026 value tracker'!E:E,"Facilities",'2026 value tracker'!I:I,"Completed")+SUMIFS('2026 value tracker'!P:P,'2026 value tracker'!E:E,"Facilities",'2026 value tracker'!I:I,"Completed") -> 0 | Z3: In progress | AA3: =SUMIFS('2026 value tracker'!K:K,'2026 value tracker'!H:H,"In progress")+SUMIFS('2026 value tracker'!M:M,'2026 value tracker'!H:H,"In progress")+SUMIFS('2026 value tracker'!O:O,'2026 value tracker'!H:H,"In progress") -> 2251889.7 | AB3: =SUMIFS('2026 value tracker'!L:L,'2026 value tracker'!H:H,"In progress")+SUMIFS('2026 value tracker'!N:N,'2026 value tracker'!H:H,"In progress") -> 659512 | AG3: Facilities | AH3: =SUMIFS('2026 value tracker'!K:K,'2026 value tracker'!D:D,"Facilities")+SUMIFS('2026 value tracker'!M:M,'2026 value tracker'!D:D,"Facilities")+SUMIFS('2026 value tracker'!O:O,'2026 value tracker'!D:D,"Facilities") -> 919804 | AI3: =SUMIFS('2026 value tracker'!L:L,'2026 value tracker'!D:D,"Facilities")+SUMIFS('2026 value tracker'!N:N,'2026 value tracker'!D:D,"Facilities")+SUMIFS('2026 value tracker'!P:P,'2026 value tracker'!D:D,"Facilities") -> 0 | AP3: Facilities | AQ3: =+AH3+AI3 -> 919804
A4: 2027 Cash Savings | B4: =SUMIF('2026 value tracker'!M:M, "<>",'2026 value tracker'!M:M)/2 -> 1991502 | I4: 2027 Cash Savings | J4: =SUMIFS('2026 value tracker'!M:M,'2026 value tracker'!H:H,"Completed") -> 165042 | Q4: Internet & comm technology | R4: =SUMIFS('2026 value tracker'!K:K,'2026 value tracker'!D:D,"Internet & comm technology",'2026 value tracker'!H:H,"Completed")+SUMIFS('2026 value tracker'!M:M,'2026 value tracker'!D:D,"Internet & comm technology",'2026 value tracker'!H:H,"Completed")+SUMIFS('2026 value tracker'!O:O,'2026 value tracker'!D:D,"Internet & comm technology",'2026 value tracker'!H:H,"Completed") -> 625492 | S4: =SUMIFS('2026 value tracker'!L:L,'2026 value tracker'!D:D,"Internet & comm technology",'2026 value tracker'!H:H,"Completed")+SUMIFS('2026 value tracker'!N:N,'2026 value tracker'!D:D,"Internet & comm technology",'2026 value tracker'!H:H,"Completed")+SUMIFS('2026 value tracker'!P:P,'2026 value tracker'!D:D,"Internet & comm technology",'2026 value tracker'!H:H,"Completed") -> 91728 | Z4: On hold | AA4: =SUMIFS('2026 value tracker'!K:K,'2026 value tracker'!H:H,"On hold")+SUMIFS('2026 value tracker'!M:M,'2026 value tracker'!H:H,"On hold")+SUMIFS('2026 value tracker'!O:O,'2026 value tracker'!H:H,"On hold") -> 54804 | AB4: =SUMIFS('2026 value tracker'!L:L,'2026 value tracker'!H:H,"On hold")+SUMIFS('2026 value tracker'!N:N,'2026 value tracker'!H:H,"On hold")+SUMIFS('2026 value tracker'!P:P,'2026 value tracker'!H:H,"On hold") -> 0 | AG4: Internet & comm technology | AH4: =SUMIFS('2026 value tracker'!K:K,'2026 value tracker'!D:D,"Internet & comm technology")+SUMIFS('2026 value tracker'!M:M,'2026 value tracker'!D:D,"Internet & comm technology")+SUMIFS('2026 value tracker'!O:O,'2026 value tracker'!D:D,"Internet & comm technology") -> 807713.88 | AI4: =SUMIFS('2026 value tracker'!L:L,'2026 value tracker'!D:D,"Internet & comm technology")+SUMIFS('2026 value tracker'!N:N,'2026 value tracker'!D:D,"Internet & comm technology")+SUMIFS('2026 value tracker'!P:P,'2026 value tracker'!D:D,"Internet & comm technology") -> 751240 | AP4: Internet & comm technology | AQ4: =+AH4+AI4 -> 1558953.9
A5: 2027 Cost Avoidance | B5: =SUMIF('2026 value tracker'!N:N, "<>",'2026 value tracker'!N:N)/2 -> 9512 | I5: 2027 Cost Avoidance | J5: =SUMIFS('2026 value tracker'!N:N,'2026 value tracker'!H:H,"Completed") -> 0 | Q5: Technical Goods & Services | R5: =SUMIFS('2026 value tracker'!K:K,'2026 value tracker'!D:D,"Technical goods & services",'2026 value tracker'!H:H,"Completed")+SUMIFS('2026 value tracker'!M:M,'2026 value tracker'!D:D,"Technical goods & services",'2026 value tracker'!H:H,"Completed")+SUMIFS('2026 value tracker'!O:O,'2026 value tracker'!D:D,"Technical goods & services",'2026 value tracker'!H:H,"Completed") -> 0 | S5: =SUMIFS('2026 value tracker'!L:L,'2026 value tracker'!E:E,"Technical goods & services",'2026 value tracker'!I:I,"Completed")+SUMIFS('2026 value tracker'!N:N,'2026 value tracker'!E:E,"Technical goods & services",'2026 value tracker'!I:I,"Completed")+SUMIFS('2026 value tracker'!P:P,'2026 value tracker'!E:E,"Technical goods & services",'2026 value tracker'!I:I,"Completed") -> 0 | Z5: Completed | AA5: =SUMIFS('2026 value tracker'!K:K,'2026 value tracker'!H:H,"Completed")+SUMIFS('2026 value tracker'!M:M,'2026 value tracker'!H:H,"Completed")+SUMIFS('2026 value tracker'!O:O,'2026 value tracker'!H:H,"Completed") -> 822909 | AB5: =SUMIFS('2026 value tracker'!L:L,'2026 value tracker'!H:H,"Completed")+SUMIFS('2026 value tracker'!N:N,'2026 value tracker'!H:H,"Completed")+SUMIFS('2026 value tracker'!P:P,'2026 value tracker'!H:H,"Completed") -> 110311 | AG5: Technical Goods & Services | AH5: =SUMIFS('2026 value tracker'!K:K,'2026 value tracker'!D:D,"Technical goods & services")+SUMIFS('2026 value tracker'!M:M,'2026 value tracker'!D:D,"Technical goods & services")+SUMIFS('2026 value tracker'!O:O,'2026 value tracker'!D:D,"Technical goods & services") -> 280000 | AI5: =SUMIFS('2026 value tracker'!L:L,'2026 value tracker'!D:D,"Technical goods & services")+SUMIFS('2026 value tracker'!N:N,'2026 value tracker'!D:D,"Technical goods & services")+SUMIFS('2026 value tracker'!P:P,'2026 value tracker'!D:D,"Technical goods & services") -> 0 | AP5: Technical Goods & Services | AQ5: =+AH5+AI5 -> 280000
A6: 2028 Cash Savings | B6: =SUMIF('2026 value tracker'!O:O, "<>",'2026 value tracker'!O:O)/2 -> 38563 | I6: 2028 Cash Savings | J6: =SUMIFS('2026 value tracker'!O:O,'2026 value tracker'!H:H,"Completed") -> 38563
A7: 2028 Cost Avoidance | B7: =SUMIF('2026 value tracker'!P:P, "<>",'2026 value tracker'!P:P)/2 -> 0 | I7: 2028 Cost Avoidance | J7: =SUMIFS('2026 value tracker'!P:P,'2026 value tracker'!H:H,"Completed") -> 0
A8: Total Savings | B8: =-SUM(B2:B7) -> -4728248 | I8: Total Savings | J8: =-SUM(J2:J7) -> -933220
